BEGIN:VCALENDAR
VERSION:2.0
PRODID:-//Wohnmobilhafen Am weisser Stein - ECPv6.15.20//NONSGML v1.0//EN
CALSCALE:GREGORIAN
METHOD:PUBLISH
X-WR-CALNAME:Wohnmobilhafen Am weisser Stein
X-ORIGINAL-URL:https://weisserstein-wohnmobilhafen.de
X-WR-CALDESC:Veranstaltungen für Wohnmobilhafen Am weisser Stein
REFRESH-INTERVAL;VALUE=DURATION:PT1H
X-Robots-Tag:noindex
X-PUBLISHED-TTL:PT1H
BEGIN:VTIMEZONE
TZID:UTC
BEGIN:STANDARD
TZOFFSETFROM:+0000
TZOFFSETTO:+0000
TZNAME:UTC
DTSTART:20250101T000000
END:STANDARD
END:VTIMEZONE
BEGIN:VEVENT
DTSTART;VALUE=DATE:20260729
DTEND;VALUE=DATE:20260810
DTSTAMP:20260421T144001
CREATED:20250124T133236Z
LAST-MODIFIED:20260205T125830Z
UID:19471-1785283200-1786319999@weisserstein-wohnmobilhafen.de
SUMMARY:Zugvögel 2026
DESCRIPTION:
URL:https://weisserstein-wohnmobilhafen.de/event/zugvoegel-2025/
END:VEVENT
BEGIN:VEVENT
DTSTART;TZID=UTC:20260810T000000
DTEND;TZID=UTC:20260823T000000
DTSTAMP:20260421T144001
CREATED:20260205T130607Z
LAST-MODIFIED:20260210T110855Z
UID:35048-1786320000-1787443200@weisserstein-wohnmobilhafen.de
SUMMARY:Perseiden Woche mit Sterne Guide
DESCRIPTION:
URL:https://weisserstein-wohnmobilhafen.de/event/perseiden-woche-mit-sterne-guide/
END:VEVENT
BEGIN:VEVENT
DTSTART;VALUE=DATE:20261114
DTEND;VALUE=DATE:20261116
DTSTAMP:20260421T144001
CREATED:20250916T164938Z
LAST-MODIFIED:20260205T130328Z
UID:24674-1794614400-1794787199@weisserstein-wohnmobilhafen.de
SUMMARY:Unser Weihnachtsmarkt
DESCRIPTION:  \nDer Foodtruck Black Curry verwöhnt euch mit leckerem Soulfood.
URL:https://weisserstein-wohnmobilhafen.de/event/unser-weihnachtsmarkt/
END:VEVENT
END:VCALENDAR